BEGIN:VCALENDAR
VERSION:2.0
PRODID:icalendar-ruby
CALSCALE:GREGORIAN
METHOD:PUBLISH
BEGIN:VEVENT
DTSTAMP:20260423T212006Z
UID:5-742515@hopemuskogee.org
DTSTART:20261101T160000Z
DTEND:20261101T170000Z
CLASS:PUBLIC
CREATED:20260423T154604
DESCRIPTION:Sunday Worship
LAST-MODIFIED:20260423T154604
LOCATION:
SUMMARY:Sunday Worship
URL;VALUE=URI:https://www.hopemuskogee.org/events/sunday-worship/2026-11-01
END:VEVENT
END:VCALENDAR
