BEGIN:VCALENDAR
VERSION:2.0
PRODID:icalendar-ruby
CALSCALE:GREGORIAN
METHOD:PUBLISH
BEGIN:VEVENT
DTSTAMP:20260422T232817Z
UID:7-739409@hopemuskogee.org
DTSTART:20260920T140000Z
DTEND:20260920T150000Z
CLASS:PUBLIC
CREATED:20260422T154559
DESCRIPTION:
LAST-MODIFIED:20260422T154559
LOCATION:Church
SUMMARY:Breakfast Fellowship
URL;VALUE=URI:https://www.hopemuskogee.org/events/breakfast-fellowship/2026
 -09-20
ATTACH;FILENAME=Hot-breakfast.jpg;FMTTYPE=image/jpeg:https://dq5pwpg1q8ru0.
 cloudfront.net/2023/11/02/17/44/37/6f563427-a0d3-4bc5-b8b6-1c192599e0a0/Ho
 t-breakfast.jpg
END:VEVENT
END:VCALENDAR
