BEGIN:VCALENDAR
VERSION:2.0
PRODID:icalendar-ruby
CALSCALE:GREGORIAN
METHOD:PUBLISH
BEGIN:VEVENT
DTSTAMP:20260423T094441Z
UID:6-740393@hopemuskogee.org
DTSTART:20261105T003000Z
DTEND:20261105T020000Z
CLASS:PUBLIC
CREATED:20260422T213140
DESCRIPTION:
LAST-MODIFIED:20260422T213140
LOCATION:Church
SUMMARY:Bible Study and Fellowship
URL;VALUE=URI:https://www.hopemuskogee.org/events/bible-study-and-fellowshi
 p/2026-11-04
ATTACH;FILENAME=bible-study.jpg;FMTTYPE=image/jpeg:https://dq5pwpg1q8ru0.cl
 oudfront.net/2023/11/01/22/07/11/17ac7e95-9e14-4788-806a-e7a10f7c84e4/bibl
 e-study.jpg
END:VEVENT
END:VCALENDAR
